BEGIN:VCALENDAR
PRODID:-//Hannon Hill Events//Cascade CMS//EN
VERSION:2.0
X-WR-CALNAME:PaLM Zhong Seminar February
X-WR-TIMEZONE:America/New_York
BEGIN:VTIMEZONE
TZID:America/New_York
BEGIN:DAYLIGHT
TZOFFSETFROM:-0500
TZOFFSETTO:-0400
TZNAME:EDT
DTSTART:19700308T020000
RRULE:FREQ=YEARLY;BYMONTH=3;BYDAY=2SU
END:DAYLIGHT
BEGIN:STANDARD
TZOFFSETFROM:-0400
TZOFFSETTO:-0500
TZNAME:EST
DTSTART:19701101T020000
RRULE:FREQ=YEARLY;BYMONTH=11;BYDAY=1SU
END:STANDARD
END:VTIMEZONE
BEGIN:VEVENT
DTSTART:20260212T120000
DTEND:20260212T130000
DTSTAMP:20260219T143732
UID:dc0f6d4cac1d70234a05251f425f2091
CREATED:20260120T103917
DESCRIPTION:Join us on Thursday\, February 12\, from 12:00 - 1:00 p.m.\, i
 n Auditorium A at University Hospital\, as Dr. Douglas D. Fraser\, discuss
 es &#8220\;Long COVID (LC)-Revitalize: A Precision Medicine Driven Phase I
 II Double-Blinded\, Placebo Controlled\, Multi-Arm Platform Clinical Drug 
 Trial.&#8221\;
LAST-MODIFIED:20260122T084749
SEQUENCE:0
STATUS:CONFIRMED
SUMMARY:PaLM Zhong Seminar February
TRANSP:OPAQUE
END:VEVENT
END:VCALENDAR
